BEGIN:VCALENDAR
VERSION:2.0
PRODID:-//Elkhart County Lifestyle - ECPv6.8.2//NONSGML v1.0//EN
CALSCALE:GREGORIAN
METHOD:PUBLISH
X-WR-CALNAME:Elkhart County Lifestyle
X-ORIGINAL-URL:https://elkhartliving.com
X-WR-CALDESC:Events for Elkhart County Lifestyle
REFRESH-INTERVAL;VALUE=DURATION:PT1H
X-Robots-Tag:noindex
X-PUBLISHED-TTL:PT1H
BEGIN:VTIMEZONE
TZID:America/Indiana/Indianapolis
BEGIN:DAYLIGHT
TZOFFSETFROM:-0500
TZOFFSETTO:-0400
TZNAME:EDT
DTSTART:20220313T070000
END:DAYLIGHT
BEGIN:STANDARD
TZOFFSETFROM:-0400
TZOFFSETTO:-0500
TZNAME:EST
DTSTART:20221106T060000
END:STANDARD
END:VTIMEZONE
BEGIN:VEVENT
DTSTART;TZID=America/Indiana/Indianapolis:20221220T110000
DTEND;TZID=America/Indiana/Indianapolis:20221220T130000
DTSTAMP:20260423T111758
CREATED:20221201T142234Z
LAST-MODIFIED:20221201T142313Z
UID:509-1671534000-1671541200@elkhartliving.com
SUMMARY:FREE MOVIE: It's a Wonderful Life
DESCRIPTION:George Bailey has spent his entire life giving of himself to the people of Bedford Falls. He has always longed to travel\, but never had the opportunity. All that prevents him from keeping rich skinflint Mr. Potter from taking over the entire town is George’s modest building and loan company\, which was founded by his generous father. But on Christmas Eve\, George’s Uncle Billy loses the business’s $8\,000 while intending to deposit it in the bank.
URL:https://elkhartliving.com/event/its-a-wonderful-life/
LOCATION:Lerner Theatre\, 410 South Main Street\, Elkhart\, IN\, 46514\, United States
END:VEVENT
END:VCALENDAR